BEGIN:VCALENDAR
VERSION:2.0
PRODID:-//Envision Ohio - ECPv6.15.11//NONSGML v1.0//EN
CALSCALE:GREGORIAN
METHOD:PUBLISH
X-WR-CALNAME:Envision Ohio
X-ORIGINAL-URL:https://envisionohio.org
X-WR-CALDESC:Events for Envision Ohio
REFRESH-INTERVAL;VALUE=DURATION:PT1H
X-Robots-Tag:noindex
X-PUBLISHED-TTL:PT1H
BEGIN:VTIMEZONE
TZID:America/Detroit
BEGIN:DAYLIGHT
TZOFFSETFROM:-0500
TZOFFSETTO:-0400
TZNAME:EDT
DTSTART:20230312T070000
END:DAYLIGHT
BEGIN:STANDARD
TZOFFSETFROM:-0400
TZOFFSETTO:-0500
TZNAME:EST
DTSTART:20231105T060000
END:STANDARD
BEGIN:DAYLIGHT
TZOFFSETFROM:-0500
TZOFFSETTO:-0400
TZNAME:EDT
DTSTART:20240310T070000
END:DAYLIGHT
BEGIN:STANDARD
TZOFFSETFROM:-0400
TZOFFSETTO:-0500
TZNAME:EST
DTSTART:20241103T060000
END:STANDARD
BEGIN:DAYLIGHT
TZOFFSETFROM:-0500
TZOFFSETTO:-0400
TZNAME:EDT
DTSTART:20250309T070000
END:DAYLIGHT
BEGIN:STANDARD
TZOFFSETFROM:-0400
TZOFFSETTO:-0500
TZNAME:EST
DTSTART:20251102T060000
END:STANDARD
BEGIN:DAYLIGHT
TZOFFSETFROM:-0500
TZOFFSETTO:-0400
TZNAME:EDT
DTSTART:20260308T070000
END:DAYLIGHT
BEGIN:STANDARD
TZOFFSETFROM:-0400
TZOFFSETTO:-0500
TZNAME:EST
DTSTART:20261101T060000
END:STANDARD
END:VTIMEZONE
BEGIN:VEVENT
DTSTART;VALUE=DATE:20241112
DTEND;VALUE=DATE:20250110
DTSTAMP:20260420T144602
CREATED:20241112T193700Z
LAST-MODIFIED:20251114T024829Z
UID:7626-1731369600-1736467199@envisionohio.org
SUMMARY:Superbowl Ticket Raffle 2025
DESCRIPTION:WIN A SUPER BOWL WEEKEND PACKAGE!\nEnter to win an amazing experience at the 2025 Superbowl in New Orleans\, LA! \nTickets:  $100 each\nDon’t wait\, only 350 tickets sold!\nDrawing will be held January 9th. \nBuy Tickets\nGrand Prize Package includes:\n\n2 Tickets to the 2025 Super Bowl in Caesars Superdome on Sunday\, February 9th.\nAccommodations for two nights in a 2 bedroom property near the French Quarter Feb 8-10\n$500 for travel expenses\n\nEnjoy the vibrant nightlife\, fantastic live music and amazing cuisine that New Orleans has to offer. Soak up the local culture\, and then experience the excitement of attending the 2025 Super Bowl! \nFirst Runner Up:\n\nCincinnati Sports with tickets to the Cincinnati Reds\nIncludes 2 Terrace Line or 4 View Level seats to a 2025 game of your choice.\n\nMust be 21 or older to win. Super Bowl tickets cannot be sold or traded by the recipient. Tickets cannot be scalped or used for illegal purposes. Prize drawn January 9th. Winner must present matching Government Issued photo ID at check-in to stay at the rental property. Winner is responsible for all damages and incidentals incurred at the rental property by winner and/or their guests. See details in “Rules and Regulations” during ticketing process for additional package rules\, rental property rules\, and information. Funds raised by the raffle will benefit support services for children and adults with developmental disabilities in the Greater Cincinnati region.
URL:https://envisionohio.org/event/superbowl-ticket-raffle/
ATTACH;FMTTYPE=image/jpeg:https://envisionohio.org/wp-content/uploads/2024/11/superbowl-banner-event.jpg
END:VEVENT
BEGIN:VEVENT
DTSTART;TZID=America/Detroit:20240928T100000
DTEND;TZID=America/Detroit:20240928T130000
DTSTAMP:20260420T144602
CREATED:20160912T172749Z
LAST-MODIFIED:20240712T140237Z
UID:439-1727517600-1727528400@envisionohio.org
SUMMARY:Envision’s Go the Extra Mile Walk
DESCRIPTION:[vc_row css=”.vc_custom_1679507401493{padding-bottom: 30px !important;}”][vc_column][vc_column_text css=””] \nEnvision’s Go the Extra Mile Walk\nPresented by USI \nSaturday\, September 28\, 2024\n10 am – 1 pm\nWinton Woods Kestrel Shelter \nJoin us to “Go the Extra Mile” and support individuals in Cincinnati with Developmental Disabilities. Encourage\, support\, and help raise funds for vital services in our community. \nEnjoy a scenic stroll around the lake followed by a free festival with music\, games\, activities\, prizes\, raffles\, vendor fair and more. Free event\, registration required. Lunch by Outback Steakhouse! [/vc_column_text][/vc_column][/vc_row][vc_row equal_height=”yes” content_placement=”middle” el_class=”sponsors”][vc_column width=”1/6″][vc_single_image image=”3463″ img_size=”medium” alignment=”center”][/vc_column][vc_column width=”1/6″][vc_single_image image=”3718″ img_size=”medium” alignment=”center”][/vc_column][vc_column width=”1/6″][vc_single_image image=”3459″ img_size=”medium” alignment=”center”][/vc_column][vc_column width=”1/6″][vc_single_image image=”3719″ img_size=”medium” alignment=”center”][/vc_column][vc_column width=”1/6″][vc_single_image image=”3885″ img_size=”medium” alignment=”center”][/vc_column][vc_column width=”1/6″][vc_single_image image=”3717″ img_size=”medium” alignment=”center”][/vc_column][/vc_row][vc_row equal_height=”yes” content_placement=”middle” el_class=”sponsors”][vc_column width=”1/6″][vc_single_image image=”3721″ img_size=”medium” alignment=”center”][/vc_column][vc_column width=”1/6″][vc_single_image image=”4367″ img_size=”medium” alignment=”center”][/vc_column][vc_column width=”1/6″][vc_single_image image=”3982″ img_size=”medium” alignment=”center”][/vc_column][vc_column width=”1/6″][vc_single_image image=”3959″ img_size=”medium” alignment=”center”][/vc_column][vc_column width=”1/6″][vc_single_image image=”3461″ img_size=”medium” alignment=”center”][/vc_column][vc_column width=”1/6″][vc_single_image image=”3462″ img_size=”medium” alignment=”center”][/vc_column][/vc_row][vc_row equal_height=”yes” content_placement=”middle” el_class=”sponsors”][vc_column width=”1/6″][vc_single_image image=”3723″ img_size=”medium” alignment=”center”][/vc_column][vc_column width=”1/6″][vc_single_image image=”4447″ img_size=”medium” alignment=”center”][/vc_column][vc_column width=”1/6″][/vc_column][vc_column width=”1/6″][/vc_column][vc_column width=”1/6″][/vc_column][vc_column width=”1/6″][/vc_column][/vc_row][vc_row equal_height=”yes” content_placement=”middle” disable_element=”yes” el_class=”sponsors”][vc_column width=”1/6″][vc_single_image image=”3722″ img_size=”medium” alignment=”center”][/vc_column][vc_column width=”1/6″][vc_single_image image=”3982″ img_size=”medium” alignment=”center”][/vc_column][vc_column width=”1/6″][vc_single_image image=”3984″ img_size=”medium” alignment=”center”][/vc_column][vc_column width=”1/6″][vc_single_image image=”3720″ img_size=”medium” alignment=”center”][/vc_column][vc_column width=”1/6″][vc_single_image image=”3724″ img_size=”medium” alignment=”center”][/vc_column][vc_column width=”1/6″][vc_single_image image=”3877″ img_size=”medium” alignment=”center”][/vc_column][/vc_row][vc_row equal_height=”yes” content_placement=”middle” disable_element=”yes” el_class=”sponsors”][vc_column][vc_column_text]\n		\n		\n			\n				\n			\n			\n				\n			\n			\n				\n			\n			\n				\n			\n			\n				\n			\n			\n				\n			\n		\n[/vc_column_text][/vc_column][/vc_row]
URL:https://envisionohio.org/event/envisions-go-the-extra-mile-walk/
LOCATION:Winton Woods Kestrel Shelter\, 10245 Winton Rd\, Cincinnati\, 45231
ATTACH;FMTTYPE=image/jpeg:https://envisionohio.org/wp-content/uploads/2019/04/walk-for-envision-1.jpg
ORGANIZER;CN="Envision":MAILTO:development@envisionohio.org
END:VEVENT
END:VCALENDAR